BEGIN:VCALENDAR
VERSION:2.0
PRODID:-//Ravenna Chamber of Commerce - ECPv6.15.16//NONSGML v1.0//EN
CALSCALE:GREGORIAN
METHOD:PUBLISH
X-ORIGINAL-URL:https://ravennaareachamber.com
X-WR-CALDESC:Events for Ravenna Chamber of Commerce
REFRESH-INTERVAL;VALUE=DURATION:PT1H
X-Robots-Tag:noindex
X-PUBLISHED-TTL:PT1H
BEGIN:VTIMEZONE
TZID:America/New_York
BEGIN:DAYLIGHT
TZOFFSETFROM:-0500
TZOFFSETTO:-0400
TZNAME:EDT
DTSTART:20200308T070000
END:DAYLIGHT
BEGIN:STANDARD
TZOFFSETFROM:-0400
TZOFFSETTO:-0500
TZNAME:EST
DTSTART:20201101T060000
END:STANDARD
BEGIN:DAYLIGHT
TZOFFSETFROM:-0500
TZOFFSETTO:-0400
TZNAME:EDT
DTSTART:20210314T070000
END:DAYLIGHT
BEGIN:STANDARD
TZOFFSETFROM:-0400
TZOFFSETTO:-0500
TZNAME:EST
DTSTART:20211107T060000
END:STANDARD
BEGIN:DAYLIGHT
TZOFFSETFROM:-0500
TZOFFSETTO:-0400
TZNAME:EDT
DTSTART:20220313T070000
END:DAYLIGHT
BEGIN:STANDARD
TZOFFSETFROM:-0400
TZOFFSETTO:-0500
TZNAME:EST
DTSTART:20221106T060000
END:STANDARD
END:VTIMEZONE
BEGIN:VEVENT
DTSTART;TZID=America/New_York:20210602T163000
DTEND;TZID=America/New_York:20210602T183000
DTSTAMP:20260421T055232
CREATED:20210325T195708Z
LAST-MODIFIED:20210513T192534Z
UID:10002488-1622651400-1622658600@ravennaareachamber.com
SUMMARY:Un-Wind with Ravenna-Open Arms Adoptions
DESCRIPTION:  \n  \nJoin Open Arms Adoptions & Ravenna Chamber of Commerce\nfor an after hours ice cream social\nWednesday\, June 2\, 2021\n4:30 p.m. to 6:30 p.m.\nVance’s Carriage House Creamery\n252 W. Main Street\nAll chamber members are welcome to enjoy a scoop of ice\ncream provided by Open Arms Adoption \n  \nREGISTER HERE!!! \n  \n  \nIce Cream Social Ravenna Chamber
URL:https://ravennaareachamber.com/event/un-wind-with-ravenna-open-arms-adoptions/
LOCATION:Vance’s Carriage House Creamery\, 252 West Main Street\, Ravenna\, OH\, 44266\, United States
ORGANIZER;CN="Open Arms Adoptions":MAILTO:info@openarmsadopt.com
GEO:41.1579861;-81.2453943
X-APPLE-STRUCTURED-LOCATION;VALUE=URI;X-ADDRESS=Vance’s Carriage House Creamery 252 West Main Street Ravenna OH 44266 United States;X-APPLE-RADIUS=500;X-TITLE=252 West Main Street:geo:-81.2453943,41.1579861
END:VEVENT
END:VCALENDAR